Package: CAEN Version: 1.15.0 Command: /home/biocbuild/bbs-3.21-bioc/R/bin/R CMD build --keep-empty-dirs --no-resave-data CAEN StartedAt: 2025-02-04 16:27:34 -0500 (Tue, 04 Feb 2025) EndedAt: 2025-02-04 16:29:43 -0500 (Tue, 04 Feb 2025) EllapsedTime: 129.2 seconds RetCode: 0 Status: OK PackageFile: CAEN_1.15.0.tar.gz PackageFileSize: 988.7 KiB