Package: CAEN Version: 1.15.0 Command: /Library/Frameworks/R.framework/Resources/bin/R CMD INSTALL CAEN StartedAt: 2025-02-19 15:10:05 -0500 (Wed, 19 Feb 2025) EndedAt: 2025-02-19 15:10:36 -0500 (Wed, 19 Feb 2025) EllapsedTime: 30.5 seconds RetCode: 0 Status: OK