Package: CAEN
Version: 1.15.0
Command: /Library/Frameworks/R.framework/Resources/bin/R CMD build --keep-empty-dirs --no-resave-data CAEN
StartedAt: 2025-02-19 16:05:58 -0500 (Wed, 19 Feb 2025)
EndedAt: 2025-02-19 16:08:07 -0500 (Wed, 19 Feb 2025)
EllapsedTime: 129.1 seconds
RetCode: 0
Status: OK
PackageFile: CAEN_1.15.0.tar.gz
PackageFileSize: 988.6 <A href="http://en.wikipedia.org/wiki/KiB" target="_blank">KiB</A>