Package: CAEN Version: 1.15.0 Command: rm -rf CAEN.buildbin-libdir && mkdir CAEN.buildbin-libdir && /Users/biocbuild/BBS/utils/build-universal.sh CAEN_1.15.0.tar.gz /Library/Frameworks/R.framework/Resources/bin/R CAEN.buildbin-libdir StartedAt: 2025-02-20 00:23:30 -0500 (Thu, 20 Feb 2025) EndedAt: 2025-02-20 00:24:00 -0500 (Thu, 20 Feb 2025) EllapsedTime: 30.1 seconds RetCode: 0 Status: OK PackageFile: CAEN_1.15.0.tgz PackageFileSize: 1.52 <A href="http://en.wikipedia.org/wiki/MiB" target="_blank">MiB</A>