##############################################################################
##############################################################################
###
### Running command:
###
###   rm -rf CAEN.buildbin-libdir && mkdir CAEN.buildbin-libdir && /Users/biocbuild/BBS/utils/build-universal.sh CAEN_1.15.0.tar.gz /Library/Frameworks/R.framework/Resources/bin/R CAEN.buildbin-libdir
###
##############################################################################
##############################################################################


>>>>>>> 
>>>>>>> INSTALLATION WITH 'R CMD INSTALL --preclean --no-multiarch --library=CAEN.buildbin-libdir CAEN_1.15.0.tar.gz'
>>>>>>> 

* installing *source* package ‘CAEN’ ...
** this is package ‘CAEN’ version ‘1.15.0’
** using staged installation
** R
** data
*** moving datasets to lazyload DB
** inst
** byte-compile and prepare package for lazy loading
** help
*** installing help indices
** building package indices
** installing vignettes
** testing if installed package can be loaded from temporary location
** testing if installed package can be loaded from final location
** testing if installed package keeps a record of temporary installation path
* DONE (CAEN)