Package: CAEN Version: 1.15.0 Command: /Library/Frameworks/R.framework/Resources/bin/R CMD build --keep-empty-dirs --no-resave-data CAEN StartedAt: 2025-02-04 15:46:11 -0500 (Tue, 04 Feb 2025) EndedAt: 2025-02-04 15:47:08 -0500 (Tue, 04 Feb 2025) EllapsedTime: 56.6 seconds RetCode: 0 Status: OK PackageFile: CAEN_1.15.0.tar.gz PackageFileSize: 988.6 KiB