Package: BridgeDbR Version: 2.17.1 Command: /Library/Frameworks/R.framework/Resources/bin/R CMD INSTALL BridgeDbR StartedAt: 2025-01-31 15:07:27 -0500 (Fri, 31 Jan 2025) EndedAt: 2025-01-31 15:07:46 -0500 (Fri, 31 Jan 2025) EllapsedTime: 19.1 seconds RetCode: 0 Status: OK