Package: BridgeDbR Version: 2.17.1 Command: /home/biocbuild/R/R/bin/R CMD INSTALL BridgeDbR StartedAt: 2025-01-29 19:29:46 -0000 (Wed, 29 Jan 2025) EndedAt: 2025-01-29 19:29:56 -0000 (Wed, 29 Jan 2025) EllapsedTime: 10.0 seconds RetCode: 0 Status: OK