##############################################################################
##############################################################################
###
### Running command:
###
###   rm -rf BiocWorkflowTools.buildbin-libdir && mkdir BiocWorkflowTools.buildbin-libdir && E:\biocbuild\bbs-3.21-bioc\R\bin\R.exe CMD INSTALL --build --library=BiocWorkflowTools.buildbin-libdir BiocWorkflowTools_1.33.0.tar.gz
###
##############################################################################
##############################################################################


* installing *source* package 'BiocWorkflowTools' ...
** this is package 'BiocWorkflowTools' version '1.33.0'
** using staged installation
** R
** inst
** byte-compile and prepare package for lazy loading
** help
*** installing help indices
** building package indices
** installing vignettes
** testing if installed package can be loaded from temporary location
** testing if installed package can be loaded from final location
** testing if installed package keeps a record of temporary installation path
* MD5 sums
packaged installation of 'BiocWorkflowTools' as BiocWorkflowTools_1.33.0.zip
* DONE (BiocWorkflowTools)