Package: BiocNeighbors
Version: 2.1.2
Maintainer: Aaron Lun
MaintainerEmail: infinite.monkeys.with.keyboards at gmail.com
git_url: https://git.bioconductor.org/packages/BiocNeighbors
git_branch: devel
git_last_commit: 4407310
git_last_commit_date: 2024-12-09 13:26:09 -0500 (Mon, 09 Dec 2024)