Package: BiocBaseUtils Version: 1.9.0 Command: rm -rf BiocBaseUtils.buildbin-libdir && mkdir BiocBaseUtils.buildbin-libdir && /Users/biocbuild/BBS/utils/build-universal.sh BiocBaseUtils_1.9.0.tar.gz /Library/Frameworks/R.framework/Resources/bin/R BiocBaseUtils.buildbin-libdir StartedAt: 2025-02-01 00:08:17 -0500 (Sat, 01 Feb 2025) EndedAt: 2025-02-01 00:08:21 -0500 (Sat, 01 Feb 2025) EllapsedTime: 4.6 seconds RetCode: 0 Status: OK PackageFile: BiocBaseUtils_1.9.0.tgz PackageFileSize: 250.3 KiB