Package: BiocBaseUtils Version: 1.9.0 Command: /home/biocbuild/R/R/bin/R CMD build --keep-empty-dirs --no-resave-data BiocBaseUtils StartedAt: 2025-01-29 21:13:18 -0000 (Wed, 29 Jan 2025) EndedAt: 2025-01-29 21:13:24 -0000 (Wed, 29 Jan 2025) EllapsedTime: 5.0 seconds RetCode: 0 Status: OK PackageFile: BiocBaseUtils_1.9.0.tar.gz PackageFileSize: 251 KiB