Package: BioQC
Version: 1.35.0
Command: E:\biocbuild\bbs-3.21-bioc\R\bin\R.exe CMD INSTALL BioQC
StartedAt: 2025-02-19 15:27:26 -0500 (Wed, 19 Feb 2025)
EndedAt: 2025-02-19 15:28:15 -0500 (Wed, 19 Feb 2025)
EllapsedTime: 48.6 seconds
RetCode: 0
Status: OK