Package: BioQC Version: 1.35.0 Command: E:\biocbuild\bbs-3.21-bioc\R\bin\R.exe CMD check --no-multiarch --install=check:BioQC.install-out.txt --library=E:\biocbuild\bbs-3.21-bioc\R\library --no-vignettes --timings BioQC_1.35.0.tar.gz StartedAt: 2025-02-19 23:06:56 -0500 (Wed, 19 Feb 2025) EndedAt: 2025-02-19 23:08:45 -0500 (Wed, 19 Feb 2025) EllapsedTime: 108.6 seconds RetCode: 0 Status: OK CheckDir: BioQC.Rcheck Warnings: 0