Package: BioQC
Version: 1.35.0
Command: chmod a+r BioQC -R && E:\biocbuild\bbs-3.21-bioc\R\bin\R.exe CMD build --keep-empty-dirs --no-resave-data BioQC
StartedAt: 2025-02-19 17:33:02 -0500 (Wed, 19 Feb 2025)
EndedAt: 2025-02-19 17:37:34 -0500 (Wed, 19 Feb 2025)
EllapsedTime: 272.1 seconds
RetCode: 0
Status: OK
PackageFile: BioQC_1.35.0.tar.gz
PackageFileSize: 4.302 <A href="http://en.wikipedia.org/wiki/MiB" target="_blank">MiB</A>