Package: BioQC Version: 1.35.0 Command: rm -rf BioQC.buildbin-libdir && mkdir BioQC.buildbin-libdir && E:\biocbuild\bbs-3.21-bioc\R\bin\R.exe CMD INSTALL --build --library=BioQC.buildbin-libdir BioQC_1.35.0.tar.gz StartedAt: 2025-02-20 07:22:09 -0500 (Thu, 20 Feb 2025) EndedAt: 2025-02-20 07:23:12 -0500 (Thu, 20 Feb 2025) EllapsedTime: 63.3 seconds RetCode: 0 Status: OK PackageFile: BioQC_1.35.0.zip PackageFileSize: 4.449 <A href="http://en.wikipedia.org/wiki/MiB" target="_blank">MiB</A>