##############################################################################
##############################################################################
###
### Running command:
###
###   rm -rf BioQC.buildbin-libdir && mkdir BioQC.buildbin-libdir && E:\biocbuild\bbs-3.21-bioc\R\bin\R.exe CMD INSTALL --build --library=BioQC.buildbin-libdir BioQC_1.35.0.tar.gz
###
##############################################################################
##############################################################################


* installing *source* package 'BioQC' ...
** this is package 'BioQC' version '1.35.0'
** using staged installation
** libs
using C compiler: 'gcc.exe (GCC) 13.3.0'
using C++ compiler: 'G__~1.EXE (GCC) 13.3.0'
gcc  -I"E:/biocbuild/bbs-3.21-bioc/R/include" -DNDEBUG `E:/biocbuild/bbs-3.21-bioc/R/bin/Rscript -e 'Rcpp:::CxxFlags()'` -I'E:/biocbuild/bbs-3.21-bioc/R/library/Rcpp/include'   -I"C:/rtools44/x86_64-w64-mingw32.static.posix/include"      -O2 -Wall  -mfpmath=sse -msse2 -mstackrealign   -c gini.c -o gini.o
gcc  -I"E:/biocbuild/bbs-3.21-bioc/R/include" -DNDEBUG `E:/biocbuild/bbs-3.21-bioc/R/bin/Rscript -e 'Rcpp:::CxxFlags()'` -I'E:/biocbuild/bbs-3.21-bioc/R/library/Rcpp/include'   -I"C:/rtools44/x86_64-w64-mingw32.static.posix/include"      -O2 -Wall  -mfpmath=sse -msse2 -mstackrealign   -c init.c -o init.o
g++ -std=gnu++17  -I"E:/biocbuild/bbs-3.21-bioc/R/include" -DNDEBUG `E:/biocbuild/bbs-3.21-bioc/R/bin/Rscript -e 'Rcpp:::CxxFlags()'` -I'E:/biocbuild/bbs-3.21-bioc/R/library/Rcpp/include'   -I"C:/rtools44/x86_64-w64-mingw32.static.posix/include"      -O2 -Wall  -mfpmath=sse -msse2 -mstackrealign   -DR_NO_REMAP -c read_gmt.cpp -o read_gmt.o
gcc  -I"E:/biocbuild/bbs-3.21-bioc/R/include" -DNDEBUG `E:/biocbuild/bbs-3.21-bioc/R/bin/Rscript -e 'Rcpp:::CxxFlags()'` -I'E:/biocbuild/bbs-3.21-bioc/R/library/Rcpp/include'   -I"C:/rtools44/x86_64-w64-mingw32.static.posix/include"      -O2 -Wall  -mfpmath=sse -msse2 -mstackrealign   -c stat_rank.c -o stat_rank.o
gcc  -I"E:/biocbuild/bbs-3.21-bioc/R/include" -DNDEBUG `E:/biocbuild/bbs-3.21-bioc/R/bin/Rscript -e 'Rcpp:::CxxFlags()'` -I'E:/biocbuild/bbs-3.21-bioc/R/library/Rcpp/include'   -I"C:/rtools44/x86_64-w64-mingw32.static.posix/include"      -O2 -Wall  -mfpmath=sse -msse2 -mstackrealign   -c wmw_test.c -o wmw_test.o
wmw_test.c: In function 'wmw_test_list':
wmw_test.c:118: warning: ignoring '#pragma omp parallel' [-Wunknown-pragmas]
  118 | #pragma omp parallel for
      | 
wmw_test.c: In function 'wmw_test':
wmw_test.c:168: warning: ignoring '#pragma omp parallel' [-Wunknown-pragmas]
  168 | #pragma omp parallel for
      | 
wmw_test.c: In function 'signed_wmw_test_list':
wmw_test.c:201: warning: ignoring '#pragma omp parallel' [-Wunknown-pragmas]
  201 | #pragma omp parallel for
      | 
wmw_test.c: In function 'signed_wmw_test':
wmw_test.c:270: warning: ignoring '#pragma omp parallel' [-Wunknown-pragmas]
  270 | #pragma omp parallel for
      | 
g++ -std=gnu++17 -shared -s -static-libgcc -o BioQC.dll tmp.def gini.o init.o read_gmt.o stat_rank.o wmw_test.o -LC:/rtools44/x86_64-w64-mingw32.static.posix/lib/x64 -LC:/rtools44/x86_64-w64-mingw32.static.posix/lib -LE:/biocbuild/bbs-3.21-bioc/R/bin/x64 -lR
installing to E:/biocbuild/bbs-3.21-bioc/meat/BioQC.buildbin-libdir/00LOCK-BioQC/00new/BioQC/libs/x64
** R
** inst
** byte-compile and prepare package for lazy loading
** help
*** installing help indices
*** copying figures
** building package indices
** installing vignettes
** testing if installed package can be loaded from temporary location
** testing if installed package can be loaded from final location
** testing if installed package keeps a record of temporary installation path
* MD5 sums
packaged installation of 'BioQC' as BioQC_1.35.0.zip
* DONE (BioQC)