Package: BioQC
Version: 1.35.0
Command: /home/biocbuild/bbs-3.21-bioc/R/bin/R CMD INSTALL BioQC
StartedAt: 2025-02-19 15:12:00 -0500 (Wed, 19 Feb 2025)
EndedAt: 2025-02-19 15:12:12 -0500 (Wed, 19 Feb 2025)
EllapsedTime: 11.9 seconds
RetCode: 0
Status: OK