##############################################################################
##############################################################################
###
### Running command:
###
###   /home/biocbuild/bbs-3.21-bioc/R/bin/R CMD INSTALL BioQC
###
##############################################################################
##############################################################################


* installing to library ‘/home/biocbuild/bbs-3.21-bioc/R/site-library’
* installing *source* package ‘BioQC’ ...
** this is package ‘BioQC’ version ‘1.35.0’
** using staged installation
** libs
using C compiler: ‘gcc (Ubuntu 13.3.0-6ubuntu2~24.04) 13.3.0’
using C++ compiler: ‘g++ (Ubuntu 13.3.0-6ubuntu2~24.04) 13.3.0’
gcc -I"/home/biocbuild/bbs-3.21-bioc/R/include" -DNDEBUG `/home/biocbuild/bbs-3.21-bioc/R/bin/Rscript -e 'Rcpp:::CxxFlags()'` -I'/home/biocbuild/bbs-3.21-bioc/R/site-library/Rcpp/include' -I/usr/local/include    -fpic  -g -O2  -c gini.c -o gini.o
gcc -I"/home/biocbuild/bbs-3.21-bioc/R/include" -DNDEBUG `/home/biocbuild/bbs-3.21-bioc/R/bin/Rscript -e 'Rcpp:::CxxFlags()'` -I'/home/biocbuild/bbs-3.21-bioc/R/site-library/Rcpp/include' -I/usr/local/include    -fpic  -g -O2  -c init.c -o init.o
g++ -std=gnu++17 -I"/home/biocbuild/bbs-3.21-bioc/R/include" -DNDEBUG `/home/biocbuild/bbs-3.21-bioc/R/bin/Rscript -e 'Rcpp:::CxxFlags()'` -I'/home/biocbuild/bbs-3.21-bioc/R/site-library/Rcpp/include' -I/usr/local/include    -fpic  -g -O2  -DR_NO_REMAP -c read_gmt.cpp -o read_gmt.o
gcc -I"/home/biocbuild/bbs-3.21-bioc/R/include" -DNDEBUG `/home/biocbuild/bbs-3.21-bioc/R/bin/Rscript -e 'Rcpp:::CxxFlags()'` -I'/home/biocbuild/bbs-3.21-bioc/R/site-library/Rcpp/include' -I/usr/local/include    -fpic  -g -O2  -c stat_rank.c -o stat_rank.o
gcc -I"/home/biocbuild/bbs-3.21-bioc/R/include" -DNDEBUG `/home/biocbuild/bbs-3.21-bioc/R/bin/Rscript -e 'Rcpp:::CxxFlags()'` -I'/home/biocbuild/bbs-3.21-bioc/R/site-library/Rcpp/include' -I/usr/local/include    -fpic  -g -O2  -c wmw_test.c -o wmw_test.o
g++ -std=gnu++17 -shared -L/home/biocbuild/bbs-3.21-bioc/R/lib -L/usr/local/lib -o BioQC.so gini.o init.o read_gmt.o stat_rank.o wmw_test.o -L/home/biocbuild/bbs-3.21-bioc/R/lib -lR
installing to /home/biocbuild/bbs-3.21-bioc/R/site-library/00LOCK-BioQC/00new/BioQC/libs
** R
** inst
** byte-compile and prepare package for lazy loading
** help
*** installing help indices
*** copying figures
** building package indices
** installing vignettes
** testing if installed package can be loaded from temporary location
** checking absolute paths in shared objects and dynamic libraries
** testing if installed package can be loaded from final location
** testing if installed package keeps a record of temporary installation path
* DONE (BioQC)