Package: BioQC
Version: 1.35.0
Command: /home/biocbuild/bbs-3.21-bioc/R/bin/R CMD check --install=check:BioQC.install-out.txt --library=/home/biocbuild/bbs-3.21-bioc/R/site-library --timings BioQC_1.35.0.tar.gz
StartedAt: 2025-02-19 20:22:26 -0500 (Wed, 19 Feb 2025)
EndedAt: 2025-02-19 20:25:06 -0500 (Wed, 19 Feb 2025)
EllapsedTime: 160.3 seconds
RetCode: 0
Status: OK
CheckDir: BioQC.Rcheck
Warnings: 0