Package: BioQC Version: 1.35.0 Command: /home/biocbuild/bbs-3.21-bioc/R/bin/R CMD build --keep-empty-dirs --no-resave-data BioQC StartedAt: 2025-02-19 16:23:15 -0500 (Wed, 19 Feb 2025) EndedAt: 2025-02-19 16:25:03 -0500 (Wed, 19 Feb 2025) EllapsedTime: 108.1 seconds RetCode: 0 Status: OK PackageFile: BioQC_1.35.0.tar.gz PackageFileSize: 4.3 <A href="http://en.wikipedia.org/wiki/MiB" target="_blank">MiB</A>