Package: BioQC
Version: 1.35.0
Command: /Library/Frameworks/R.framework/Resources/bin/R CMD INSTALL BioQC
StartedAt: 2025-02-19 15:07:13 -0500 (Wed, 19 Feb 2025)
EndedAt: 2025-02-19 15:07:40 -0500 (Wed, 19 Feb 2025)
EllapsedTime: 26.4 seconds
RetCode: 0
Status: OK