Package: BioQC
Version: 1.35.0
Command: /Library/Frameworks/R.framework/Resources/bin/R CMD check --install=check:BioQC.install-out.txt --library=/Library/Frameworks/R.framework/Resources/library --no-vignettes --timings BioQC_1.35.0.tar.gz
StartedAt: 2025-02-19 19:08:38 -0500 (Wed, 19 Feb 2025)
EndedAt: 2025-02-19 19:11:20 -0500 (Wed, 19 Feb 2025)
EllapsedTime: 161.4 seconds
RetCode: 0
Status: OK
CheckDir: BioQC.Rcheck
Warnings: 0