Package: BioQC
Version: 1.35.0
Command: /Library/Frameworks/R.framework/Resources/bin/R CMD build --keep-empty-dirs --no-resave-data BioQC
StartedAt: 2025-02-19 16:02:01 -0500 (Wed, 19 Feb 2025)
EndedAt: 2025-02-19 16:03:54 -0500 (Wed, 19 Feb 2025)
EllapsedTime: 113.1 seconds
RetCode: 0
Status: OK
PackageFile: BioQC_1.35.0.tar.gz
PackageFileSize: 4.299 <A href="http://en.wikipedia.org/wiki/MiB" target="_blank">MiB</A>