Package: BioQC Version: 1.35.0 Command: /Library/Frameworks/R.framework/Resources/bin/R CMD INSTALL BioQC StartedAt: 2025-02-19 15:02:59 -0500 (Wed, 19 Feb 2025) EndedAt: 2025-02-19 15:03:04 -0500 (Wed, 19 Feb 2025) EllapsedTime: 5.6 seconds RetCode: 0 Status: OK