Package: BioQC
Version: 1.35.0
Command: /Library/Frameworks/R.framework/Resources/bin/R CMD check --install=check:BioQC.install-out.txt --library=/Library/Frameworks/R.framework/Resources/library --no-vignettes --timings BioQC_1.35.0.tar.gz
StartedAt: 2025-02-19 18:18:44 -0500 (Wed, 19 Feb 2025)
EndedAt: 2025-02-19 18:19:05 -0500 (Wed, 19 Feb 2025)
EllapsedTime: 21.2 seconds
RetCode: 0
Status: OK
CheckDir: BioQC.Rcheck
Warnings: 0