Package: BioQC Version: 1.35.0 Command: rm -rf BioQC.buildbin-libdir && mkdir BioQC.buildbin-libdir && /Users/biocbuild/BBS/utils/build-universal.sh BioQC_1.35.0.tar.gz /Library/Frameworks/R.framework/Resources/bin/R BioQC.buildbin-libdir StartedAt: 2025-02-19 22:15:02 -0500 (Wed, 19 Feb 2025) EndedAt: 2025-02-19 22:15:09 -0500 (Wed, 19 Feb 2025) EllapsedTime: 7.1 seconds RetCode: 0 Status: OK PackageFile: BioQC_1.35.0.tgz PackageFileSize: 4.12 <A href="http://en.wikipedia.org/wiki/MiB" target="_blank">MiB</A>