Package: BioNAR
Version: 1.9.4
Maintainer: Anatoly Sorokin
MaintainerEmail: lptolik at gmail.com
git_url: https://git.bioconductor.org/packages/BioNAR
git_branch: devel
git_last_commit: 0d4786a
git_last_commit_date: 2025-02-19 00:24:41 -0500 (Wed, 19 Feb 2025)