Package: BioMVCClass Version: 1.75.0 Command: chmod a+r BioMVCClass -R && E:\biocbuild\bbs-3.21-bioc\R\bin\R.exe CMD build --keep-empty-dirs --no-resave-data BioMVCClass StartedAt: 2025-01-31 17:25:12 -0500 (Fri, 31 Jan 2025) EndedAt: 2025-01-31 17:25:38 -0500 (Fri, 31 Jan 2025) EllapsedTime: 25.7 seconds RetCode: 0 Status: OK PackageFile: BioMVCClass_1.75.0.tar.gz PackageFileSize: 132.1 KiB