Package: BioMVCClass Version: 1.75.0 Command: /Library/Frameworks/R.framework/Resources/bin/R CMD build --keep-empty-dirs --no-resave-data BioMVCClass StartedAt: 2025-01-31 16:04:33 -0500 (Fri, 31 Jan 2025) EndedAt: 2025-01-31 16:04:42 -0500 (Fri, 31 Jan 2025) EllapsedTime: 9.2 seconds RetCode: 0 Status: OK PackageFile: BioMVCClass_1.75.0.tar.gz PackageFileSize: 131.4 KiB