Package: BioCor Version: 1.31.0 Command: E:\biocbuild\bbs-3.21-bioc\R\bin\R.exe CMD INSTALL BioCor StartedAt: 2025-01-31 15:52:59 -0500 (Fri, 31 Jan 2025) EndedAt: 2025-01-31 15:53:32 -0500 (Fri, 31 Jan 2025) EllapsedTime: 33.3 seconds RetCode: 0 Status: OK