Package: BioCartaImage
Version: 1.5.0
Maintainer: Zuguang Gu
MaintainerEmail: z.gu at dkfz.de
git_url: https://git.bioconductor.org/packages/BioCartaImage
git_branch: devel
git_last_commit: 46b0932
git_last_commit_date: 2024-10-29 11:24:38 -0500 (Tue, 29 Oct 2024)