Package: BeadDataPackR
Version: 1.59.0
Command: E:\biocbuild\bbs-3.21-bioc\R\bin\R.exe CMD check --no-multiarch --install=check:BeadDataPackR.install-out.txt --library=E:\biocbuild\bbs-3.21-bioc\R\library --no-vignettes --timings BeadDataPackR_1.59.0.tar.gz
StartedAt: 2025-02-16 22:44:21 -0500 (Sun, 16 Feb 2025)
EndedAt: 2025-02-16 22:44:49 -0500 (Sun, 16 Feb 2025)
EllapsedTime: 28.5 seconds
RetCode: 0
Status: OK
CheckDir: BeadDataPackR.Rcheck
Warnings: 0