Package: BeadDataPackR Version: 1.59.0 Command: rm -rf BeadDataPackR.buildbin-libdir && mkdir BeadDataPackR.buildbin-libdir && E:\biocbuild\bbs-3.21-bioc\R\bin\R.exe CMD INSTALL --build --library=BeadDataPackR.buildbin-libdir BeadDataPackR_1.59.0.tar.gz StartedAt: 2025-02-05 07:28:49 -0500 (Wed, 05 Feb 2025) EndedAt: 2025-02-05 07:29:11 -0500 (Wed, 05 Feb 2025) EllapsedTime: 22.1 seconds RetCode: 0 Status: OK PackageFile: BeadDataPackR_1.59.0.zip PackageFileSize: 294.3 KiB