Package: BeadDataPackR Version: 1.59.0 Command: /Library/Frameworks/R.framework/Resources/bin/R CMD build --keep-empty-dirs --no-resave-data BeadDataPackR StartedAt: 2025-02-04 15:38:37 -0500 (Tue, 04 Feb 2025) EndedAt: 2025-02-04 15:38:41 -0500 (Tue, 04 Feb 2025) EllapsedTime: 4.0 seconds RetCode: 0 Status: OK PackageFile: BeadDataPackR_1.59.0.tar.gz PackageFileSize: 235.7 KiB