Package: BayesSpace Version: 1.17.0 Command: /Library/Frameworks/R.framework/Resources/bin/R CMD INSTALL BayesSpace StartedAt: 2025-02-19 15:44:15 -0500 (Wed, 19 Feb 2025) EndedAt: 2025-02-19 15:45:35 -0500 (Wed, 19 Feb 2025) EllapsedTime: 79.7 seconds RetCode: 0 Status: OK