Package: BayesSpace
Version: 1.17.0
Command: /Library/Frameworks/R.framework/Resources/bin/R CMD check --install=check:BayesSpace.install-out.txt --library=/Library/Frameworks/R.framework/Resources/library --no-vignettes --timings BayesSpace_1.17.0.tar.gz
StartedAt: 2025-02-19 18:58:01 -0500 (Wed, 19 Feb 2025)
EndedAt: 2025-02-19 19:03:03 -0500 (Wed, 19 Feb 2025)
EllapsedTime: 302.4 seconds
RetCode: 0
Status: OK
CheckDir: BayesSpace.Rcheck
Warnings: 0