Package: BayesSpace Version: 1.17.0 Command: /Library/Frameworks/R.framework/Resources/bin/R CMD build --keep-empty-dirs --no-resave-data BayesSpace StartedAt: 2025-02-19 15:56:25 -0500 (Wed, 19 Feb 2025) EndedAt: 2025-02-19 16:14:45 -0500 (Wed, 19 Feb 2025) EllapsedTime: 1099.5 seconds RetCode: 0 Status: OK PackageFile: BayesSpace_1.17.0.tar.gz PackageFileSize: 1.634 <A href="http://en.wikipedia.org/wiki/MiB" target="_blank">MiB</A>