Package: BayesSpace Version: 1.17.0 Command: /Library/Frameworks/R.framework/Resources/bin/R CMD INSTALL BayesSpace StartedAt: 2025-02-19 15:29:29 -0500 (Wed, 19 Feb 2025) EndedAt: 2025-02-19 15:29:53 -0500 (Wed, 19 Feb 2025) EllapsedTime: 23.8 seconds RetCode: 0 Status: OK