Package: BayesSpace
Version: 1.17.0
Command: /Library/Frameworks/R.framework/Resources/bin/R CMD check --install=check:BayesSpace.install-out.txt --library=/Library/Frameworks/R.framework/Resources/library --no-vignettes --timings BayesSpace_1.17.0.tar.gz
StartedAt: 2025-02-19 18:11:17 -0500 (Wed, 19 Feb 2025)
EndedAt: 2025-02-19 18:13:04 -0500 (Wed, 19 Feb 2025)
EllapsedTime: 107.3 seconds
RetCode: 0
Status: OK
CheckDir: BayesSpace.Rcheck
Warnings: 0