Package: BayesSpace Version: 1.17.0 Command: rm -rf BayesSpace.buildbin-libdir && mkdir BayesSpace.buildbin-libdir && /Users/biocbuild/BBS/utils/build-universal.sh BayesSpace_1.17.0.tar.gz /Library/Frameworks/R.framework/Resources/bin/R BayesSpace.buildbin-libdir StartedAt: 2025-02-19 22:14:05 -0500 (Wed, 19 Feb 2025) EndedAt: 2025-02-19 22:14:31 -0500 (Wed, 19 Feb 2025) EllapsedTime: 26.5 seconds RetCode: 0 Status: OK PackageFile: BayesSpace_1.17.0.tgz PackageFileSize: 1.933 <A href="http://en.wikipedia.org/wiki/MiB" target="_blank">MiB</A>