Package: BUMHMM
Version: 1.31.0
Command: E:\biocbuild\bbs-3.21-bioc\R\bin\R.exe CMD INSTALL BUMHMM
StartedAt: 2025-02-19 16:26:10 -0500 (Wed, 19 Feb 2025)
EndedAt: 2025-02-19 16:26:42 -0500 (Wed, 19 Feb 2025)
EllapsedTime: 32.7 seconds
RetCode: 0
Status: OK