Package: BUMHMM Version: 1.31.0 Command: E:\biocbuild\bbs-3.21-bioc\R\bin\R.exe CMD check --no-multiarch --install=check:BUMHMM.install-out.txt --library=E:\biocbuild\bbs-3.21-bioc\R\library --no-vignettes --timings BUMHMM_1.31.0.tar.gz StartedAt: 2025-02-19 23:16:11 -0500 (Wed, 19 Feb 2025) EndedAt: 2025-02-19 23:20:20 -0500 (Wed, 19 Feb 2025) EllapsedTime: 248.3 seconds RetCode: 0 Status: OK CheckDir: BUMHMM.Rcheck Warnings: 0