Package: BUMHMM
Version: 1.31.0
Command: rm -rf BUMHMM.buildbin-libdir && mkdir BUMHMM.buildbin-libdir && E:\biocbuild\bbs-3.21-bioc\R\bin\R.exe CMD INSTALL --build --library=BUMHMM.buildbin-libdir BUMHMM_1.31.0.tar.gz
StartedAt: 2025-02-20 07:24:07 -0500 (Thu, 20 Feb 2025)
EndedAt: 2025-02-20 07:24:46 -0500 (Thu, 20 Feb 2025)
EllapsedTime: 38.2 seconds
RetCode: 0
Status: OK
PackageFile: BUMHMM_1.31.0.zip
PackageFileSize: 746.5 <A href="http://en.wikipedia.org/wiki/KiB" target="_blank">KiB</A>