Package: BSgenomeForge
Version: 1.7.0
Maintainer: Hervé Pagès
MaintainerEmail: hpages.on.github at gmail.com
git_url: https://git.bioconductor.org/packages/BSgenomeForge
git_branch: devel
git_last_commit: b850d52
git_last_commit_date: 2024-10-29 11:19:37 -0500 (Tue, 29 Oct 2024)