Package: BRAIN
Version: 1.53.0
Maintainer: Piotr Dittwald
MaintainerEmail: piotr.dittwald at mimuw.edu.pl
git_url: https://git.bioconductor.org/packages/BRAIN
git_branch: devel
git_last_commit: e298262
git_last_commit_date: 2024-10-29 09:40:24 -0500 (Tue, 29 Oct 2024)