Package: BASiCStan Version: 1.9.0 Command: /Library/Frameworks/R.framework/Resources/bin/R CMD INSTALL BASiCStan StartedAt: 2025-02-19 15:25:52 -0500 (Wed, 19 Feb 2025) EndedAt: 2025-02-19 15:27:03 -0500 (Wed, 19 Feb 2025) EllapsedTime: 70.2 seconds RetCode: 0 Status: OK