Package: BASiCStan
Version: 1.9.0
Command: /Library/Frameworks/R.framework/Resources/bin/R CMD check --install=check:BASiCStan.install-out.txt --library=/Library/Frameworks/R.framework/Resources/library --no-vignettes --timings BASiCStan_1.9.0.tar.gz
StartedAt: 2025-02-19 18:10:23 -0500 (Wed, 19 Feb 2025)
EndedAt: 2025-02-19 18:12:17 -0500 (Wed, 19 Feb 2025)
EllapsedTime: 114.4 seconds
RetCode: 0
Status: OK
CheckDir: BASiCStan.Rcheck
Warnings: 0