Package: BASiCStan
Version: 1.9.0
Command: /Library/Frameworks/R.framework/Resources/bin/R CMD build --keep-empty-dirs --no-resave-data BASiCStan
StartedAt: 2025-02-19 15:36:53 -0500 (Wed, 19 Feb 2025)
EndedAt: 2025-02-19 15:38:07 -0500 (Wed, 19 Feb 2025)
EllapsedTime: 74.8 seconds
RetCode: 0
Status: OK
PackageFile: BASiCStan_1.9.0.tar.gz
PackageFileSize: 76.56 <A href="http://en.wikipedia.org/wiki/KiB" target="_blank">KiB</A>