Package: BASiCStan
Version: 1.9.0
Command: rm -rf BASiCStan.buildbin-libdir && mkdir BASiCStan.buildbin-libdir && /Users/biocbuild/BBS/utils/build-universal.sh BASiCStan_1.9.0.tar.gz /Library/Frameworks/R.framework/Resources/bin/R BASiCStan.buildbin-libdir
StartedAt: 2025-02-19 22:14:00 -0500 (Wed, 19 Feb 2025)
EndedAt: 2025-02-19 22:15:17 -0500 (Wed, 19 Feb 2025)
EllapsedTime: 76.7 seconds
RetCode: 0
Status: OK
PackageFile: BASiCStan_1.9.0.tgz
PackageFileSize: 1006 <A href="http://en.wikipedia.org/wiki/KiB" target="_blank">KiB</A>